BEGIN:VCALENDAR
VERSION:2.0
PRODID:-//All for dance - ECPv6.15.13//NONSGML v1.0//EN
CALSCALE:GREGORIAN
METHOD:PUBLISH
X-ORIGINAL-URL:https://allfordance.pt
X-WR-CALDESC:Eventos para All for dance
REFRESH-INTERVAL;VALUE=DURATION:PT1H
X-Robots-Tag:noindex
X-PUBLISHED-TTL:PT1H
BEGIN:VTIMEZONE
TZID:UTC
BEGIN:STANDARD
TZOFFSETFROM:+0000
TZOFFSETTO:+0000
TZNAME:UTC
DTSTART:20240101T000000
END:STANDARD
END:VTIMEZONE
BEGIN:VEVENT
DTSTART;TZID=UTC:20250517T140000
DTEND;TZID=UTC:20250517T170000
DTSTAMP:20260421T235943
CREATED:20250316T193529Z
LAST-MODIFIED:20250511T173305Z
UID:4113-1747490400-1747501200@allfordance.pt
SUMMARY:Nur Zahira Workshops
DESCRIPTION:Este Domingo\, a dança não faltará no nosso estúdio ♥️!\nA nossa querida professora internacional Nur Zahira @nurzahira.bellydancer estará a dar mais um workshop😍! Se ainda não se inscreveu\, garanta o seu lugar!!
URL:https://allfordance.pt/evento/nur-zahira-workshops/
LOCATION:All For Dance\, Rua Manuel Valadares\, nº5\,\, Alfornelos\, Amadora\, 2650-192\, Portugal
CATEGORIES:Workshop
ATTACH;FMTTYPE=image/png:https://allfordance.pt/wp-content/uploads/2025/03/Screenshot-2025-03-16-at-16.29.03.png
ORGANIZER;CN="All for Dance":MAILTO:geral@allfordance.pt
END:VEVENT
END:VCALENDAR