BEGIN:VCALENDAR
VERSION:2.0
PRODID:-//All for dance - ECPv6.15.13//NONSGML v1.0//EN
CALSCALE:GREGORIAN
METHOD:PUBLISH
X-ORIGINAL-URL:https://allfordance.pt
X-WR-CALDESC:Eventos para All for dance
REFRESH-INTERVAL;VALUE=DURATION:PT1H
X-Robots-Tag:noindex
X-PUBLISHED-TTL:PT1H
BEGIN:VTIMEZONE
TZID:Europe/Lisbon
BEGIN:DAYLIGHT
TZOFFSETFROM:+0000
TZOFFSETTO:+0100
TZNAME:WEST
DTSTART:20240331T010000
END:DAYLIGHT
BEGIN:STANDARD
TZOFFSETFROM:+0100
TZOFFSETTO:+0000
TZNAME:WET
DTSTART:20241027T010000
END:STANDARD
BEGIN:DAYLIGHT
TZOFFSETFROM:+0000
TZOFFSETTO:+0100
TZNAME:WEST
DTSTART:20250330T010000
END:DAYLIGHT
BEGIN:STANDARD
TZOFFSETFROM:+0100
TZOFFSETTO:+0000
TZNAME:WET
DTSTART:20251026T010000
END:STANDARD
BEGIN:DAYLIGHT
TZOFFSETFROM:+0000
TZOFFSETTO:+0100
TZNAME:WEST
DTSTART:20260329T010000
END:DAYLIGHT
BEGIN:STANDARD
TZOFFSETFROM:+0100
TZOFFSETTO:+0000
TZNAME:WET
DTSTART:20261025T010000
END:STANDARD
END:VTIMEZONE
BEGIN:VTIMEZONE
TZID:UTC
BEGIN:STANDARD
TZOFFSETFROM:+0000
TZOFFSETTO:+0000
TZNAME:UTC
DTSTART:20240101T000000
END:STANDARD
END:VTIMEZONE
BEGIN:VEVENT
DTSTART;TZID=Europe/Lisbon:20250308T080000
DTEND;TZID=Europe/Lisbon:20250308T170000
DTSTAMP:20260422T033216
CREATED:20250301T145641Z
LAST-MODIFIED:20250329T160809Z
UID:4187-1741420800-1741453200@allfordance.pt
SUMMARY:17° Festival Internacional de Danza Oriental de Gijón
DESCRIPTION:A nossa queria professora Cris Aysel vai estar presente no 17° Festival Internacional de Danza Oriental de Gijón como professora num dos workshops do Festival e vai também actuar na gala internacional a solo.
URL:https://allfordance.pt/evento/17-festival-internacional-de-danza-oriental-de-gijon/
LOCATION:Amadora
CATEGORIES:Espetáculo
ATTACH;FMTTYPE=image/png:https://allfordance.pt/wp-content/uploads/2025/03/Screenshot-2025-03-29-at-15.01.48.png
END:VEVENT
BEGIN:VEVENT
DTSTART;TZID=UTC:20250316T080000
DTEND;TZID=UTC:20250316T170000
DTSTAMP:20260422T033216
CREATED:20241016T215704Z
LAST-MODIFIED:20250316T230228Z
UID:4169-1742112000-1742144400@allfordance.pt
SUMMARY:Raks Noor Festival - Oriental Dance Festival
DESCRIPTION:Nosso estúdio estará muito bem representado num dos maiores Festivais Internacionais de Dança Oriental do país: o Raks Noor @raksnoorfestival ♥️. \nActuações nas galas: grupos convidados ( grupo da professora Raquel Correia @mraquelcorreia \, grupo de Cris Aysel @cris_aysel e projecto Coreográfico Nur Zahira @nurzahira.bellydancer \, projecto este que se desenvolve nas nossas instalações) \nSolos (Cris Aysel @cris_aysel e nossa professora internacional que todos os meses ensina no All for Dance\, a Nur Zahira @nurzahira.bellydancer ) \nAlunas que irão participar no concurso em diferentes categorias: Daniela Ramos @daniela.conde129 \, Joana Zafirah @joana.zafirah_bellydance\, Magda Isabel @magda.isabel.31 \, Rita Radiyah @rita.radiyah.bellydance e Sofia Sousa @sofia_a_sousa . \nSe quiserem dar-nos apoio e assistirem as galas onde vamos actuar( e com com muitos bailarinos talentosos também)\, é só contactarem a organização do evento… íamos ficar muito felizes com a vossa presença 😍!
URL:https://allfordance.pt/evento/raks-noor-festival-oriental-dance-festival/
LOCATION:Amadora
CATEGORIES:Espetáculo
ATTACH;FMTTYPE=image/jpeg:https://allfordance.pt/wp-content/uploads/2025/03/raqsNor.jpeg
END:VEVENT
BEGIN:VEVENT
DTSTART;TZID=UTC:20250322T213000
DTEND;TZID=UTC:20250322T230000
DTSTAMP:20260422T033216
CREATED:20250316T194010Z
LAST-MODIFIED:20250323T221943Z
UID:4146-1742679000-1742684400@allfordance.pt
SUMMARY:Festival EDA Encontro de Danças Árabes
DESCRIPTION:O nosso estúdio vai participar em peso na edição de este ano do festival EDA 2025 \nJá imaginaste dividir o palco com o ícone da música oriental\, o grande Tony Mouzayek e Banda? \nPois é…a nossa fantástica professora Cris Aysel @cris_aysel e as Nuray vão participar na Open Gala e dançar com ele ao vivo! \nEntretanto as nossas querias alunas \nInes Salsinha @salsinha21 \nSofia sousa @sofia_a_sousa \nCatarina Santos @catarinapbts \nRita.radiyah @rita.radiyah.bellydance \nJoana @joana.zafirah_bellydance \nVão participar na competição a partir das 15h00 \n 
URL:https://allfordance.pt/evento/festival-eda-encontro-de-dancas-arabes/
LOCATION:Amadora
CATEGORIES:Espetáculo
ATTACH;FMTTYPE=image/png:https://allfordance.pt/wp-content/uploads/2025/03/Screenshot-2025-03-16-at-19.22.17.png
END:VEVENT
END:VCALENDAR