BEGIN:VCALENDAR
VERSION:2.0
PRODID:-//All for dance - ECPv6.15.13//NONSGML v1.0//EN
CALSCALE:GREGORIAN
METHOD:PUBLISH
X-WR-CALNAME:All for dance
X-ORIGINAL-URL:https://allfordance.pt
X-WR-CALDESC:Eventos para All for dance
REFRESH-INTERVAL;VALUE=DURATION:PT1H
X-Robots-Tag:noindex
X-PUBLISHED-TTL:PT1H
BEGIN:VTIMEZONE
TZID:UTC
BEGIN:STANDARD
TZOFFSETFROM:+0000
TZOFFSETTO:+0000
TZNAME:UTC
DTSTART:20240101T000000
END:STANDARD
END:VTIMEZONE
BEGIN:VEVENT
DTSTART;TZID=UTC:20250201T080000
DTEND;TZID=UTC:20250201T170000
DTSTAMP:20260422T050116
CREATED:20250201T200033Z
LAST-MODIFIED:20250316T224308Z
UID:4149-1738396800-1738429200@allfordance.pt
SUMMARY:Movimento Perpétuo ou a Poesia de Sempre
DESCRIPTION:Temos o prazer de ter algumas das nossas classes convidadas para participar no grande espetáculo “Movimento Perpétuo ou a Poesia de Sempre” pelas academias Ai!aDança. \nO nosso ballet infantil\, contemporânea infantil\, contemporânea adultos e as Nuray vão actuar nas 3 grandes galas deste maravilhoso espetáculo no Centro Cultural Olga Cadaval! \nDia 1 fev 25 CCOC em 3 sessões consecutivas as 15h\, 18h e 21h30
URL:https://allfordance.pt/evento/movimento-perpetuo-ou-a-poesia-de-sempre/
LOCATION:Centro Cultural Olga Cadaval\, Praça Dr. Francisco Sá Carneiro\, Sintra\, 2710-720\, Portugal
CATEGORIES:Espetáculo
ATTACH;FMTTYPE=image/jpeg:https://allfordance.pt/wp-content/uploads/2025/03/MovimentoPerpetuo.jpg
END:VEVENT
BEGIN:VEVENT
DTSTART;TZID=UTC:20250202T170000
DTEND;TZID=UTC:20250202T190000
DTSTAMP:20260422T050116
CREATED:20250202T191746Z
LAST-MODIFIED:20250316T224333Z
UID:4141-1738515600-1738522800@allfordance.pt
SUMMARY:Palco Aberto Setúbal'25
DESCRIPTION:As nossas Nuray ✨ vão actuar no Palco Aberto Setúbal’25 \nNuray é o nome do grupo de pessoas que fazem formação com Cris Aysel (@cris_aysel ) e significa “Luar”. \nO grupo veste sempre a camisola dos diferentes desafios dançantes para os quais é convidado ou se propõe a atuar. \nA Dança Oriental é a base deste grupo e também é ela que comanda quando se fazem fusões\, utilizando outras inspirações\, músicas e técnicas. Desde o folclore\, o Raks Sharki e à fusão\, o grupo vibra com o amor pela dança! As Nuray aprendem essencialmente no All for Dance (@estudioallfordance )\, em Alfornelos (estúdio de dança de Cris Aysel) e também na Academia Ai! A Dança (@aiadanca ) em Sintra.
URL:https://allfordance.pt/evento/palco-aberto-setubal25/
LOCATION:Amadora
CATEGORIES:Espetáculo
ATTACH;FMTTYPE=image/jpeg:https://allfordance.pt/wp-content/uploads/2025/03/palcoAberto_nuray.jpeg
END:VEVENT
BEGIN:VEVENT
DTSTART;TZID=UTC:20250216T150000
DTEND;TZID=UTC:20250216T163000
DTSTAMP:20260422T050116
CREATED:20250216T191257Z
LAST-MODIFIED:20250316T224619Z
UID:4138-1739718000-1739723400@allfordance.pt
SUMMARY:Burlesco “I am my own Valentine”
DESCRIPTION:Workshop de Burlesco “I am my own Valentine” por @mizz.kat.tigerfell ! \nMarcando a data de celebração do amor\, este workshop convida à lembrança de que o amor vem de nós e se reflete para o exterior.\nUma coreografia que cria um espaço seguro para a tua auto descoberta na arte da sensualidade aliada ao glamour. Um presente que podes oferecer a quem gostas ou a ti mesma/o. \n💕Posturas base e coreografia\n💕Dress Code: Shinny e confortável\nNão é necessário saltos altos\, mas são bem vindos ✨ \n💕16 de Fevereiro – 15h-16h30 \nNível: Aberto e a todas as pessoas\n*Oferta de uma aula regular de burlesco \nValor:\nAlunos externos : 25€\nAlunos internos: 20€
URL:https://allfordance.pt/evento/burlesco-i-am-my-own-valentine/
LOCATION:All For Dance\, Rua Manuel Valadares\, nº5\,\, Alfornelos\, Amadora\, 2650-192\, Portugal
CATEGORIES:Workshop
ATTACH;FMTTYPE=image/jpeg:https://allfordance.pt/wp-content/uploads/2025/03/workshop_MizzKatTigerfell.jpg
ORGANIZER;CN="All for Dance":MAILTO:geral@allfordance.pt
END:VEVENT
END:VCALENDAR