BEGIN:VCALENDAR
VERSION:2.0
PRODID:-//All for dance - ECPv6.15.13//NONSGML v1.0//EN
CALSCALE:GREGORIAN
METHOD:PUBLISH
X-WR-CALNAME:All for dance
X-ORIGINAL-URL:https://allfordance.pt
X-WR-CALDESC:Eventos para All for dance
REFRESH-INTERVAL;VALUE=DURATION:PT1H
X-Robots-Tag:noindex
X-PUBLISHED-TTL:PT1H
BEGIN:VTIMEZONE
TZID:Europe/Lisbon
BEGIN:DAYLIGHT
TZOFFSETFROM:+0000
TZOFFSETTO:+0100
TZNAME:WEST
DTSTART:20240331T010000
END:DAYLIGHT
BEGIN:STANDARD
TZOFFSETFROM:+0100
TZOFFSETTO:+0000
TZNAME:WET
DTSTART:20241027T010000
END:STANDARD
BEGIN:DAYLIGHT
TZOFFSETFROM:+0000
TZOFFSETTO:+0100
TZNAME:WEST
DTSTART:20250330T010000
END:DAYLIGHT
BEGIN:STANDARD
TZOFFSETFROM:+0100
TZOFFSETTO:+0000
TZNAME:WET
DTSTART:20251026T010000
END:STANDARD
BEGIN:DAYLIGHT
TZOFFSETFROM:+0000
TZOFFSETTO:+0100
TZNAME:WEST
DTSTART:20260329T010000
END:DAYLIGHT
BEGIN:STANDARD
TZOFFSETFROM:+0100
TZOFFSETTO:+0000
TZNAME:WET
DTSTART:20261025T010000
END:STANDARD
END:VTIMEZONE
BEGIN:VEVENT
DTSTART;TZID=Europe/Lisbon:20251010T080000
DTEND;TZID=Europe/Lisbon:20251011T170000
DTSTAMP:20260421T173712
CREATED:20250917T120916Z
LAST-MODIFIED:20250928T210922Z
UID:4469-1760083200-1760202000@allfordance.pt
SUMMARY:Innerfusion Fest
DESCRIPTION:Internacional Fusion Bellydance Festival
URL:https://allfordance.pt/evento/innerfusion-fest/
LOCATION:Amadora
CATEGORIES:Espetáculo
ATTACH;FMTTYPE=image/png:https://allfordance.pt/wp-content/uploads/2025/09/innerFusionFest.png
END:VEVENT
END:VCALENDAR