BEGIN:VCALENDAR
VERSION:2.0
PRODID:-//All for dance - ECPv6.15.13//NONSGML v1.0//EN
CALSCALE:GREGORIAN
METHOD:PUBLISH
X-WR-CALNAME:All for dance
X-ORIGINAL-URL:https://allfordance.pt
X-WR-CALDESC:Eventos para All for dance
REFRESH-INTERVAL;VALUE=DURATION:PT1H
X-Robots-Tag:noindex
X-PUBLISHED-TTL:PT1H
BEGIN:VTIMEZONE
TZID:UTC
BEGIN:STANDARD
TZOFFSETFROM:+0000
TZOFFSETTO:+0000
TZNAME:UTC
DTSTART:20230101T000000
END:STANDARD
END:VTIMEZONE
BEGIN:VEVENT
DTSTART;TZID=UTC:20241129T213000
DTEND;TZID=UTC:20241130T123000
DTSTAMP:20260422T100410
CREATED:20241129T231123Z
LAST-MODIFIED:20250316T232745Z
UID:4172-1732915800-1732969800@allfordance.pt
SUMMARY:Alma Fusion Fest\, Fusion Belly Dance Festival
DESCRIPTION:O Alma Fusion Fest é muito especial para nós\, pois a nossa professora Raquel faz parte da sua organização. \nA Raquel irá conduzir um workshop com um tema essencial para qualquer bailarina de Dança Oriental: Flowing through Space: Fluidez na Fusão Oriental. \nA Cris Aysel também dará um workshop sobre Técnica de Véu para Fusão Oriental\, onde poderás aprender a utilizar este acessório de forma criativa. \nAlém disso\, teremos várias alunas nossas a participar na competição e na Hafla\, e teremos a oportunidade de assistir às apresentações das Nuray da Cris Aysel e das Eilid Fusion da Raquel Correia\, assim como aos solos das nossas queridas professoras! \n 
URL:https://allfordance.pt/evento/alma-fusion-fest-fusion-belly-dance-festival/
LOCATION:Amadora
CATEGORIES:Espetáculo
ATTACH;FMTTYPE=image/jpeg:https://allfordance.pt/wp-content/uploads/2025/03/almaFusion.jpeg
END:VEVENT
END:VCALENDAR