BEGIN:VCALENDAR
VERSION:2.0
PRODID:-//All for dance - ECPv6.15.13//NONSGML v1.0//EN
CALSCALE:GREGORIAN
METHOD:PUBLISH
X-ORIGINAL-URL:https://allfordance.pt
X-WR-CALDESC:Eventos para All for dance
REFRESH-INTERVAL;VALUE=DURATION:PT1H
X-Robots-Tag:noindex
X-PUBLISHED-TTL:PT1H
BEGIN:VTIMEZONE
TZID:UTC
BEGIN:STANDARD
TZOFFSETFROM:+0000
TZOFFSETTO:+0000
TZNAME:UTC
DTSTART:20230101T000000
END:STANDARD
END:VTIMEZONE
BEGIN:VEVENT
DTSTART;TZID=UTC:20240706T160000
DTEND;TZID=UTC:20240706T180000
DTSTAMP:20260422T183234
CREATED:20250316T170340Z
LAST-MODIFIED:20250316T170510Z
UID:4122-1720281600-1720288800@allfordance.pt
SUMMARY:Contos que Dançam – Espetáculo final de ano
DESCRIPTION:O nosso espectáculo de fim de ano\, do All for Dance @estudioallfordance \, aproxima-se! \nDia 6 de Julho\, vamos mostrar o que se fez ( e ainda se faz) neste ano lectivo ❤!\nVenham apoiar os nossos grandes bailarinos e deixem-se encantar com tudo o que vos vamos mostrar! \nO espectáculo será no auditório do Colégio São João de Brito\, no Lumiar. \nPreço: 10 euros. Grupos de 4 bilhetes: 8 euros. \nInformações e reservas: crisaysel@gmail.com ou através do formulário de contacto.
URL:https://allfordance.pt/evento/contos-que-dancam-espetaculo-final-de-ano/
LOCATION:Amadora
CATEGORIES:Espetáculo
ATTACH;FMTTYPE=image/jpeg:https://allfordance.pt/wp-content/uploads/2024/06/contosQueDancam.jpg
END:VEVENT
END:VCALENDAR