BEGIN:VCALENDAR
VERSION:2.0
PRODID:-//All for dance - ECPv6.15.13//NONSGML v1.0//EN
CALSCALE:GREGORIAN
METHOD:PUBLISH
X-WR-CALNAME:All for dance
X-ORIGINAL-URL:https://allfordance.pt
X-WR-CALDESC:Eventos para All for dance
REFRESH-INTERVAL;VALUE=DURATION:PT1H
X-Robots-Tag:noindex
X-PUBLISHED-TTL:PT1H
BEGIN:VTIMEZONE
TZID:UTC
BEGIN:STANDARD
TZOFFSETFROM:+0000
TZOFFSETTO:+0000
TZNAME:UTC
DTSTART:20230101T000000
END:STANDARD
END:VTIMEZONE
BEGIN:VEVENT
DTSTART;TZID=UTC:20240215T183000
DTEND;TZID=UTC:20240418T193000
DTSTAMP:20260422T231945
CREATED:20250316T170847Z
LAST-MODIFIED:20250316T170847Z
UID:4124-1708021800-1713468600@allfordance.pt
SUMMARY:Laboratório Coreográfico- Edição Online
DESCRIPTION:Este curso terá como objectivo não só trabalhar técnicas de desenvolvimento criativo e coreográfico como orientar projectos individuais . Desta vez serão 10 aulas para poder aprofundar ao máximo este tema. \nTodos os níveis de aprendizagem são bem vindos \, mas é aconselhável algum conhecimento de Dança Oriental para tirar melhor proveito. \nO valor total do curso são 75€ ( para facilidade de pagamento poderão entrar em contacto).\n*Alunos @estudioallfordance o valor é de 65€. \nO curso decorrerá com minimo de 4 participantes e máximo de 8. Quem frequentar um minimo de 80% live terá direito a certificado. \nInscrições: crisaysel@gmail.com
URL:https://allfordance.pt/evento/laboratorio-coreografico-edicao-online/
LOCATION:Amadora
CATEGORIES:Workshop
ATTACH;FMTTYPE=image/jpeg:https://allfordance.pt/wp-content/uploads/2024/02/laboratorio-coreografico.jpeg
ORGANIZER;CN="All for Dance":MAILTO:geral@allfordance.pt
END:VEVENT
END:VCALENDAR